BEGIN:VCALENDAR
VERSION:2.0
PRODID:-//gino-timing.ch - Jean-Noël Froidevaux - ECPv6.15.20//NONSGML v1.0//EN
CALSCALE:GREGORIAN
METHOD:PUBLISH
X-ORIGINAL-URL:https://gino-timing.ch
X-WR-CALDESC:Évènements pour gino-timing.ch - Jean-Noël Froidevaux
REFRESH-INTERVAL;VALUE=DURATION:PT1H
X-Robots-Tag:noindex
X-PUBLISHED-TTL:PT1H
BEGIN:VTIMEZONE
TZID:UTC
BEGIN:STANDARD
TZOFFSETFROM:+0000
TZOFFSETTO:+0000
TZNAME:UTC
DTSTART:20250101T000000
END:STANDARD
END:VTIMEZONE
BEGIN:VEVENT
DTSTART;TZID=UTC:20260110T080000
DTEND;TZID=UTC:20260110T170000
DTSTAMP:20260420T123228
CREATED:20251104T183459Z
LAST-MODIFIED:20251106T155037Z
UID:2578-1768032000-1768064400@gino-timing.ch
SUMMARY:Championnats Romand de ski de fond 2026 individuel
DESCRIPTION:
URL:https://gino-timing.ch/event/championnats-romand-de-ski-de-fond-2026-individuel/
LOCATION:La Vue des Alpes
CATEGORIES:Ski de fond
ATTACH;FMTTYPE=image/webp:https://gino-timing.ch/wp-content/uploads/2025/11/OIP-2.webp
END:VEVENT
BEGIN:VEVENT
DTSTART;TZID=UTC:20260111T080000
DTEND;TZID=UTC:20260111T170000
DTSTAMP:20260420T123228
CREATED:20251104T183622Z
LAST-MODIFIED:20251106T155056Z
UID:2582-1768118400-1768150800@gino-timing.ch
SUMMARY:Championnats Romand de ski de fond 2026 Relais
DESCRIPTION:
URL:https://gino-timing.ch/event/championnats-romand-de-ski-de-fond-2026-relais/
LOCATION:La Vue des Alpes
CATEGORIES:Course à pied
ATTACH;FMTTYPE=image/webp:https://gino-timing.ch/wp-content/uploads/2025/11/telecharger.webp
END:VEVENT
BEGIN:VEVENT
DTSTART;TZID=UTC:20260118T080000
DTEND;TZID=UTC:20260118T170000
DTSTAMP:20260420T123228
CREATED:20251209T081027Z
LAST-MODIFIED:20251209T081027Z
UID:2625-1768723200-1768755600@gino-timing.ch
SUMMARY:Course de l'Heure 2026
DESCRIPTION:
URL:https://gino-timing.ch/event/course-de-lheure-2026/
LOCATION:Les Breuleux
ATTACH;FMTTYPE=image/webp:https://gino-timing.ch/wp-content/uploads/2025/12/OIP.webp
END:VEVENT
BEGIN:VEVENT
DTSTART;TZID=UTC:20260131T080000
DTEND;TZID=UTC:20260131T170000
DTSTAMP:20260420T123228
CREATED:20251105T185617Z
LAST-MODIFIED:20251106T154654Z
UID:2588-1769846400-1769878800@gino-timing.ch
SUMMARY:Team sprint (équipe de 2)
DESCRIPTION:Team sprint (équipe de 2)
URL:https://gino-timing.ch/event/team-sprint-equipe-de-2/
LOCATION:Les Mosses/La Lécherette
CATEGORIES:Ski de fond
ATTACH;FMTTYPE=image/webp:https://gino-timing.ch/wp-content/uploads/2025/11/OIP-1.webp
END:VEVENT
END:VCALENDAR