BEGIN:VCALENDAR
VERSION:2.0
PRODID:-//gino-timing.ch - Jean-Noël Froidevaux - ECPv6.15.20//NONSGML v1.0//EN
CALSCALE:GREGORIAN
METHOD:PUBLISH
X-WR-CALNAME:gino-timing.ch - Jean-Noël Froidevaux
X-ORIGINAL-URL:https://gino-timing.ch
X-WR-CALDESC:Évènements pour gino-timing.ch - Jean-Noël Froidevaux
REFRESH-INTERVAL;VALUE=DURATION:PT1H
X-Robots-Tag:noindex
X-PUBLISHED-TTL:PT1H
BEGIN:VTIMEZONE
TZID:Europe/Zurich
BEGIN:DAYLIGHT
TZOFFSETFROM:+0100
TZOFFSETTO:+0200
TZNAME:CEST
DTSTART:20240331T010000
END:DAYLIGHT
BEGIN:STANDARD
TZOFFSETFROM:+0200
TZOFFSETTO:+0100
TZNAME:CET
DTSTART:20241027T010000
END:STANDARD
BEGIN:DAYLIGHT
TZOFFSETFROM:+0100
TZOFFSETTO:+0200
TZNAME:CEST
DTSTART:20250330T010000
END:DAYLIGHT
BEGIN:STANDARD
TZOFFSETFROM:+0200
TZOFFSETTO:+0100
TZNAME:CET
DTSTART:20251026T010000
END:STANDARD
BEGIN:DAYLIGHT
TZOFFSETFROM:+0100
TZOFFSETTO:+0200
TZNAME:CEST
DTSTART:20260329T010000
END:DAYLIGHT
BEGIN:STANDARD
TZOFFSETFROM:+0200
TZOFFSETTO:+0100
TZNAME:CET
DTSTART:20261025T010000
END:STANDARD
END:VTIMEZONE
BEGIN:VEVENT
DTSTART;TZID=Europe/Zurich:20250105T080000
DTEND;TZID=Europe/Zurich:20250105T170000
DTSTAMP:20260423T034820
CREATED:20241102T133406Z
LAST-MODIFIED:20251209T080743Z
UID:1163-1736064000-1736096400@gino-timing.ch
SUMMARY:Course de l'Heure
DESCRIPTION:Course de l’Heure\n\nSki de fond
URL:https://gino-timing.ch/event/course-de-lheure-2/
LOCATION:Les Breuleux
CATEGORIES:Ski de fond
END:VEVENT
BEGIN:VEVENT
DTSTART;VALUE=DATE:20250201
DTEND;VALUE=DATE:20250203
DTSTAMP:20260423T034820
CREATED:20240903T224126Z
LAST-MODIFIED:20240903T224126Z
UID:1146-1738368000-1738540799@gino-timing.ch
SUMMARY:Championnats Romand de ski de fond 2025 individuel
DESCRIPTION:Championnats Romand de ski de fond 2025 individuel
URL:https://gino-timing.ch/event/championnats-romand-de-ski-de-fond-2025/
LOCATION:Les Diablerets
CATEGORIES:Ski de fond
END:VEVENT
END:VCALENDAR