BEGIN:VCALENDAR
VERSION:2.0
PRODID:-//gino-timing.ch - Jean-Noël Froidevaux - ECPv6.15.20//NONSGML v1.0//EN
CALSCALE:GREGORIAN
METHOD:PUBLISH
X-ORIGINAL-URL:https://gino-timing.ch
X-WR-CALDESC:Évènements pour gino-timing.ch - Jean-Noël Froidevaux
REFRESH-INTERVAL;VALUE=DURATION:PT1H
X-Robots-Tag:noindex
X-PUBLISHED-TTL:PT1H
BEGIN:VTIMEZONE
TZID:UTC
BEGIN:STANDARD
TZOFFSETFROM:+0000
TZOFFSETTO:+0000
TZNAME:UTC
DTSTART:20250101T000000
END:STANDARD
END:VTIMEZONE
BEGIN:VEVENT
DTSTART;TZID=UTC:20260913T080000
DTEND;TZID=UTC:20260913T170000
DTSTAMP:20260420T170703
CREATED:20260324T155758Z
LAST-MODIFIED:20260324T160455Z
UID:2712-1789286400-1789318800@gino-timing.ch
SUMMARY:Courses de Montbautier 2026
DESCRIPTION:
URL:https://gino-timing.ch/event/courses-de-montbautier-2025/
LOCATION:Les Genevez
ATTACH;FMTTYPE=image/jpeg:https://gino-timing.ch/wp-content/uploads/2026/03/Sans-titre.jpg
END:VEVENT
END:VCALENDAR