BEGIN:VCALENDAR
VERSION:2.0
PRODID:-//gino-timing.ch - Jean-Noël Froidevaux - ECPv6.15.20//NONSGML v1.0//EN
CALSCALE:GREGORIAN
METHOD:PUBLISH
X-WR-CALNAME:gino-timing.ch - Jean-Noël Froidevaux
X-ORIGINAL-URL:https://gino-timing.ch
X-WR-CALDESC:Évènements pour gino-timing.ch - Jean-Noël Froidevaux
REFRESH-INTERVAL;VALUE=DURATION:PT1H
X-Robots-Tag:noindex
X-PUBLISHED-TTL:PT1H
BEGIN:VTIMEZONE
TZID:UTC
BEGIN:STANDARD
TZOFFSETFROM:+0000
TZOFFSETTO:+0000
TZNAME:UTC
DTSTART:20250101T000000
END:STANDARD
END:VTIMEZONE
BEGIN:VEVENT
DTSTART;TZID=UTC:20260815T080000
DTEND;TZID=UTC:20260815T170000
DTSTAMP:20260420T153948
CREATED:20251123T115541Z
LAST-MODIFIED:20251123T115820Z
UID:2611-1786780800-1786813200@gino-timing.ch
SUMMARY:Meeting Bassecourt
DESCRIPTION:
URL:https://gino-timing.ch/event/meeting-bassecourt/
LOCATION:Bassecourt
ATTACH;FMTTYPE=image/jpeg:https://gino-timing.ch/wp-content/uploads/2025/11/Bassecourt.jpg
END:VEVENT
END:VCALENDAR