BEGIN:VCALENDAR
VERSION:2.0
PRODID:-//gino-timing.ch - Jean-Noël Froidevaux - ECPv6.15.20//NONSGML v1.0//EN
CALSCALE:GREGORIAN
METHOD:PUBLISH
X-ORIGINAL-URL:https://gino-timing.ch
X-WR-CALDESC:Évènements pour gino-timing.ch - Jean-Noël Froidevaux
REFRESH-INTERVAL;VALUE=DURATION:PT1H
X-Robots-Tag:noindex
X-PUBLISHED-TTL:PT1H
BEGIN:VTIMEZONE
TZID:UTC
BEGIN:STANDARD
TZOFFSETFROM:+0000
TZOFFSETTO:+0000
TZNAME:UTC
DTSTART:20250101T000000
END:STANDARD
END:VTIMEZONE
BEGIN:VEVENT
DTSTART;TZID=UTC:20260725T080000
DTEND;TZID=UTC:20260725T200000
DTSTAMP:20260420T140625
CREATED:20260203T172545Z
LAST-MODIFIED:20260203T172857Z
UID:2652-1784966400-1785009600@gino-timing.ch
SUMMARY:Les Tchérattes 2026
DESCRIPTION:Les Tchérattes 2026
URL:https://gino-timing.ch/event/les-tcherattes-2026/
CATEGORIES:Course à pied
ATTACH;FMTTYPE=image/jpeg:https://gino-timing.ch/wp-content/uploads/2026/02/1546745.jpg
END:VEVENT
END:VCALENDAR