BEGIN:VCALENDAR
VERSION:2.0
PRODID:-//gino-timing.ch - Jean-Noël Froidevaux - ECPv6.15.20//NONSGML v1.0//EN
CALSCALE:GREGORIAN
METHOD:PUBLISH
X-ORIGINAL-URL:https://gino-timing.ch
X-WR-CALDESC:Évènements pour gino-timing.ch - Jean-Noël Froidevaux
REFRESH-INTERVAL;VALUE=DURATION:PT1H
X-Robots-Tag:noindex
X-PUBLISHED-TTL:PT1H
BEGIN:VTIMEZONE
TZID:UTC
BEGIN:STANDARD
TZOFFSETFROM:+0000
TZOFFSETTO:+0000
TZNAME:UTC
DTSTART:20250101T000000
END:STANDARD
END:VTIMEZONE
BEGIN:VEVENT
DTSTART;TZID=UTC:20260215T080000
DTEND;TZID=UTC:20260215T170000
DTSTAMP:20260420T122658
CREATED:20251104T183954Z
LAST-MODIFIED:20260212T190308Z
UID:2584-1771142400-1771174800@gino-timing.ch
SUMMARY:Franches Nordique 2026 annulée
DESCRIPTION:
URL:https://gino-timing.ch/event/franches-nordique-2026/
LOCATION:Les Breuleux
CATEGORIES:Ski de fond
ATTACH;FMTTYPE=image/webp:https://gino-timing.ch/wp-content/uploads/2025/11/OIP.webp
END:VEVENT
END:VCALENDAR