BEGIN:VCALENDAR
VERSION:2.0
PRODID:-//gino-timing.ch - Jean-Noël Froidevaux - ECPv6.15.20//NONSGML v1.0//EN
CALSCALE:GREGORIAN
METHOD:PUBLISH
X-WR-CALNAME:gino-timing.ch - Jean-Noël Froidevaux
X-ORIGINAL-URL:https://gino-timing.ch
X-WR-CALDESC:Évènements pour gino-timing.ch - Jean-Noël Froidevaux
REFRESH-INTERVAL;VALUE=DURATION:PT1H
X-Robots-Tag:noindex
X-PUBLISHED-TTL:PT1H
BEGIN:VTIMEZONE
TZID:UTC
BEGIN:STANDARD
TZOFFSETFROM:+0000
TZOFFSETTO:+0000
TZNAME:UTC
DTSTART:20250101T000000
END:STANDARD
END:VTIMEZONE
BEGIN:VEVENT
DTSTART;TZID=UTC:20260110T080000
DTEND;TZID=UTC:20260110T170000
DTSTAMP:20260420T141027
CREATED:20251104T183459Z
LAST-MODIFIED:20251106T155037Z
UID:2578-1768032000-1768064400@gino-timing.ch
SUMMARY:Championnats Romand de ski de fond 2026 individuel
DESCRIPTION:
URL:https://gino-timing.ch/event/championnats-romand-de-ski-de-fond-2026-individuel/
LOCATION:La Vue des Alpes
CATEGORIES:Ski de fond
ATTACH;FMTTYPE=image/webp:https://gino-timing.ch/wp-content/uploads/2025/11/OIP-2.webp
END:VEVENT
END:VCALENDAR