BEGIN:VCALENDAR
VERSION:2.0
PRODID:-//gino-timing.ch - Jean-Noël Froidevaux - ECPv6.15.20//NONSGML v1.0//EN
CALSCALE:GREGORIAN
METHOD:PUBLISH
X-ORIGINAL-URL:https://gino-timing.ch
X-WR-CALDESC:Évènements pour gino-timing.ch - Jean-Noël Froidevaux
REFRESH-INTERVAL;VALUE=DURATION:PT1H
X-Robots-Tag:noindex
X-PUBLISHED-TTL:PT1H
BEGIN:VTIMEZONE
TZID:UTC
BEGIN:STANDARD
TZOFFSETFROM:+0000
TZOFFSETTO:+0000
TZNAME:UTC
DTSTART:20240101T000000
END:STANDARD
END:VTIMEZONE
BEGIN:VEVENT
DTSTART;TZID=UTC:20250830T100000
DTEND;TZID=UTC:20250830T170000
DTSTAMP:20260422T160541
CREATED:20250723T131216Z
LAST-MODIFIED:20250723T131437Z
UID:2498-1756548000-1756573200@gino-timing.ch
SUMMARY:Courses du Montbautier
DESCRIPTION:
URL:https://gino-timing.ch/event/courses-du-montbautier/
ATTACH;FMTTYPE=image/jpeg:https://gino-timing.ch/wp-content/uploads/2025/07/IMG_1611-rotated.jpg
END:VEVENT
END:VCALENDAR